BEGIN:VCALENDAR
VERSION:2.0
PRODID:-//ChamberMaster//Event Calendar 2.0//EN
METHOD:PUBLISH
X-PUBLISHED-TTL:P3D
REFRESH-INTERVAL:P3D
CALSCALE:GREGORIAN
BEGIN:VEVENT
DTSTART:20260516T130000Z
DTEND:20260516T160000Z
X-MICROSOFT-CDO-ALLDAYEVENT:FALSE
SUMMARY:West Georgia Woman Magazine's 6th Annual Women's Event
DESCRIPTION:Join West Georgia Woman Magazine and presenting sponsor Tanner Women's Care for a morning of self care. Vendors\, shopping\, complimentary beauty/massage bar and breakfast bar\, networking and a free swag bag for the first 200 registered guests. (Guests must be present to receive a bag).
X-ALT-DESC;FMTTYPE=text/html:Join West Georgia Woman Magazine and presenting sponsor Tanner Women&#39\;s Care for a morning of self care. Vendors\, shopping\, complimentary beauty/massage bar and breakfast bar\, networking and a free swag bag for the first 200 registered guests. (Guests must be present to receive a bag).
LOCATION:City Station 2115 Maple Street Carrollton\, GA 30117
UID:e.1441.17021
SEQUENCE:3
DTSTAMP:20260422T031329Z
URL:https://business.carroll-ga.org/events/details/west-georgia-woman-magazine-s-6th-annual-women-s-event-17021
END:VEVENT

END:VCALENDAR
