BEGIN:VCALENDAR
VERSION:2.0
PRODID:-//ChamberMaster//Event Calendar 2.0//EN
METHOD:PUBLISH
X-PUBLISHED-TTL:P3D
REFRESH-INTERVAL:P3D
CALSCALE:GREGORIAN
BEGIN:VEVENT
DTSTART:20260423T150000Z
DTEND:20260423T170000Z
X-MICROSOFT-CDO-ALLDAYEVENT:FALSE
SUMMARY:Senior Career Fair
DESCRIPTION:This Senior Career Fair provides Bowdon\, Central\, and Mt. Zion graduating seniors with the opportunity to connect directly with local employers\, industry professionals\, and workforce partners. This event is designed to support students who plan to enter the workforce immediately after graduation by offering on-site interviews\, networking opportunities\, and information about full-time positions\, apprenticeships\, and training programs. This event serves as an important bridge between high school and the workforce\, helping seniors take the next step toward their career goals.
X-ALT-DESC;FMTTYPE=text/html:This Senior Career Fair provides Bowdon\, Central\, and Mt. Zion graduating seniors with the opportunity to connect directly with local employers\, industry professionals\, and workforce partners. This event is designed to support students who plan to enter the workforce immediately after graduation by offering on-site interviews\, networking opportunities\, and information about full-time positions\, apprenticeships\, and training programs. This event serves as an important bridge between high school and the workforce\, helping seniors take the next step toward their career goals.
LOCATION:College and Career Academy - South Campus 1075 Newnan Rd. Carrollton\, GA30116
UID:e.1441.17019
SEQUENCE:3
DTSTAMP:20260421T234822Z
URL:https://business.carroll-ga.org/events/details/senior-career-fair-04-23-2026-17019
END:VEVENT

END:VCALENDAR
