BEGIN:VCALENDAR
VERSION:2.0
PRODID:-//ChamberMaster//Event Calendar 2.0//EN
METHOD:PUBLISH
X-PUBLISHED-TTL:P3D
REFRESH-INTERVAL:P3D
CALSCALE:GREGORIAN
BEGIN:VEVENT
DTSTART:20260414T140000Z
DTEND:20260414T180000Z
X-MICROSOFT-CDO-ALLDAYEVENT:FALSE
SUMMARY:Senior Career Fair
DESCRIPTION:The Senior Career Fair provides Temple High School graduating seniors with the opportunity to connect directly with local employers\, industry professionals\, and workforce partners. This event is designed to support students who plan to enter the workforce immediately after graduation by offering on-site interviews\, networking opportunities\, and information about full-time positions\, apprenticeships\, and training programs. This event serves as an important bridge between high school and the workforce\, helping seniors take the next step toward their career goals.
X-ALT-DESC;FMTTYPE=text/html:The Senior Career Fair provides Temple High School graduating seniors with the opportunity to connect directly with local employers\, industry professionals\, and workforce partners. This event is designed to support students who plan to enter the workforce immediately after graduation by offering on-site interviews\, networking opportunities\, and information about full-time positions\, apprenticeships\, and training programs. This event serves as an important bridge between high school and the workforce\, helping seniors take the next step toward their career goals.
LOCATION:Temple High School 589 Sage St. Temple\, GA 30179
UID:e.1441.17020
SEQUENCE:3
DTSTAMP:20260421T234725Z
URL:https://business.carroll-ga.org/events/details/senior-career-fair-04-14-2026-17020
END:VEVENT

END:VCALENDAR
