BEGIN:VCALENDAR
VERSION:2.0
PRODID:-//ChamberMaster//Event Calendar 2.0//EN
METHOD:PUBLISH
X-PUBLISHED-TTL:P3D
REFRESH-INTERVAL:P3D
CALSCALE:GREGORIAN
BEGIN:VEVENT
DTSTART:20250220T160000Z
DTEND:20250220T163000Z
X-MICROSOFT-CDO-ALLDAYEVENT:FALSE
SUMMARY:Ribbon Cutting - Jackson Services
DESCRIPTION:Ribbon Cutting - Jackson Services
X-ALT-DESC;FMTTYPE=text/html:Ribbon Cutting - Jackson Services
LOCATION:514 Dixie Street\, Carrollton\, GA 30117
UID:e.1441.16260
SEQUENCE:3
DTSTAMP:20260421T064737Z
URL:https://business.carroll-ga.org/events/details/ribbon-cutting-jackson-services-16260
END:VEVENT

END:VCALENDAR
