BEGIN:VCALENDAR
VERSION:2.0
PRODID:-//ChamberMaster//Event Calendar 2.0//EN
METHOD:PUBLISH
X-PUBLISHED-TTL:P3D
REFRESH-INTERVAL:P3D
CALSCALE:GREGORIAN
BEGIN:VEVENT
DTSTART:20240221T130000Z
DTEND:20240221T170000Z
X-MICROSOFT-CDO-ALLDAYEVENT:FALSE
SUMMARY:Leadership Academy: Conflict Resolution
DESCRIPTION:Wherever two or more people come together\, there is bound to be conflict. This course will give participants a seven-step conflict resolution process that they can use and modify to resolve conflict disputes of any size. Your participants will also be provided a set of skills in solution building and finding common ground. In the Conflict Resolution workshop\, participants will learn crucial conflict management skills\, including dealing with anger and using the Agreement Frame. Dealing with conflict is important for every organization no matter what the size. If it is left unchecked or not resolved it can lead to lost production\, absences\, attrition\, and even law suits."
X-ALT-DESC;FMTTYPE=text/html:Wherever two or more people come together\, there is bound to be conflict. This course will give participants a seven-step conflict resolution process that they can use and modify to resolve conflict disputes of any size. Your participants will also be provided a set of skills in solution building and finding common ground. In the Conflict Resolution workshop\, participants will learn crucial conflict management skills\, including dealing with anger and using the Agreement Frame. Dealing with conflict is important for every organization no matter what the size. If it is left unchecked or not resolved it can lead to lost production\, absences\, attrition\, and even law suits.&quot\;
LOCATION:West Georgia Technical College 500 Technolgy Pkwy Carrollton\, GA Room 210
UID:e.1441.15863
SEQUENCE:3
DTSTAMP:20260420T183948Z
URL:https://business.carroll-ga.org/events/details/leadership-academy-conflict-resolution-02-21-2024-15863
END:VEVENT

END:VCALENDAR
