BEGIN:VCALENDAR
VERSION:2.0
PRODID:-//ChamberMaster//Event Calendar 2.0//EN
METHOD:PUBLISH
X-PUBLISHED-TTL:P3D
REFRESH-INTERVAL:P3D
CALSCALE:GREGORIAN
BEGIN:VEVENT
DTSTART:20260502T223000Z
DTEND:20260503T010000Z
X-MICROSOFT-CDO-ALLDAYEVENT:FALSE
SUMMARY:2026 Annual Meeting
DESCRIPTION:Join the Carroll County Chamber of Commerce for our 2026 Annual Meeting & Awards the Chamber's premier annual gathering of business and community leadership.\n\nHosted at the University of West Georgia Campus Center Ballroom\, this signature event brings together 300+ business leaders\, elected officials\, and community partners for an evening of connection\, recognition\, and celebration.\n\nThe evening will begin with a Derby-inspired cocktail reception including a live streaming of the race\, followed by dinner and the presentation of the Chamber's Annual Awards. During the awards program\, we will recognize outstanding businesses and individuals whose leadership\, innovation\, and service continue to strengthen the Carroll County business community.\n\nThe Annual Meeting reflects the legacy\, stability\, growth\, tradition\, and leadership that define our region's thriving economy.\n\nTickets & Tables\n\nIndividual tickets and corporate tables are available for purchase. Seating is limited\, and early registration is encouraged.\n\nSponsorship Opportunities\n\nA variety of sponsorship opportunities are available for organizations seeking high-visibility recognition in front of one of the most engaged audiences in our region. Sponsorship details are available during registration and may also be requested by contacting the Chamber office.\n\nWe look forward to celebrating the very best of Carroll County business with you on May 2\, 2026.
X-ALT-DESC;FMTTYPE=text/html:<div class="flex flex-col text-sm pb-25">\n<article class="text-token-text-primary w-full focus:outline-none [--shadow-height:45px] has-data-writing-block:pointer-events-none has-data-writing-block:-mt-(--shadow-height) has-data-writing-block:pt-(--shadow-height) [&amp\;:has([data-writing-block])&gt\;*]:pointer-events-auto scroll-mt-[calc(var(--header-height)+min(200px\,max(70px\,20svh)))]" data-scroll-anchor="true" data-testid="conversation-turn-6" data-turn="assistant" data-turn-id="request-WEB:bde3b90e-be57-405f-968c-aa93150b1469-5" dir="auto" tabindex="-1">\n<div class="text-base my-auto mx-auto pb-10 [--thread-content-margin:--spacing(4)] @w-sm/main:[--thread-content-margin:--spacing(6)] @w-lg/main:[--thread-content-margin:--spacing(16)] px-(--thread-content-margin)">\n<div class="[--thread-content-max-width:40rem] @w-lg/main:[--thread-content-max-width:48rem] mx-auto max-w-(--thread-content-max-width) flex-1 group/turn-messages focus-visible:outline-hidden relative flex w-full min-w-0 flex-col agent-turn" tabindex="-1">\n<div class="flex max-w-full flex-col grow">\n<div class="min-h-8 text-message relative flex w-full flex-col items-end gap-2 text-start break-words whitespace-normal [.text-message+&amp\;]:mt-1" data-message-author-role="assistant" data-message-id="1bd34d8b-03aa-4356-8e68-df31afe1739a" data-message-model-slug="gpt-5-2-thinking" dir="auto">\n<div class="flex w-full flex-col gap-1 empty:hidden first:pt-[1px]">\n<div class="markdown prose dark:prose-invert w-full wrap-break-word light markdown-new-styling">\n<p data-end="161" data-start="0"><span style="font-size:14px\;">Join the Carroll County Chamber of Commerce for our <strong data-end="84" data-start="52">2026 Annual Meeting &amp\; Awards</strong>&mdash\;the Chamber&rsquo\;s premier annual gathering of business and community leadership.</span></p>\n\n<p data-end="397" data-start="163"><span style="font-size:14px\;">Hosted at the <strong data-end="230" data-start="177">University of West Georgia Campus Center Ballroom</strong>\, this signature event brings together <strong data-end="337" data-start="269">300+ business leaders\, elected officials\, and community partners</strong> for an evening of connection\, recognition\, and celebration.</span></p>\n\n<p data-end="731" data-start="399"><span style="font-size:14px\;">The evening will begin with a <strong data-end="466" data-start="429">Derby-inspired cocktail reception including a live streaming of the race</strong>\, followed by <strong data-end="542" data-start="480">dinner and the presentation of the Chamber&rsquo\;s Annual Awards</strong>. During the awards program\, we will recognize outstanding businesses and individuals whose leadership\, innovation\, and service continue to strengthen the Carroll County business community.</span></p>\n\n<p data-end="864" data-start="733"><span style="font-size:14px\;">The Annual Meeting reflects the <strong data-end="821" data-start="765">legacy\, stability\, growth\, tradition\, and leadership</strong> that define our region&rsquo\;s thriving economy.</span></p>\n\n<h3 data-end="884" data-start="866"><span style="font-size:14px\;"><strong>Tickets &amp\; Tables</strong></span></h3>\n\n<p data-end="1092" data-start="967"><span style="font-size:14px\;">Individual tickets and corporate tables are available for purchase. Seating is limited\, and early registration is encouraged.</span></p>\n\n<h3 data-end="1123" data-start="1094"><span style="font-size:14px\;"><strong>Sponsorship Opportunities</strong></span></h3>\n\n<p data-end="1405" data-start="1124"><span style="font-size:14px\;">A variety of sponsorship opportunities are available for organizations seeking high-visibility recognition in front of one of the most engaged audiences in our region. Sponsorship details are available during registration and may also be requested by contacting the Chamber office.</span></p>\n\n<p data-end="1507" data-is-last-node="" data-is-only-node="" data-start="1407"><span style="font-size:14px\;">We look forward to celebrating the very best of Carroll County business with you on <strong data-end="1506" data-start="1491">May 2\, 2026</strong>.</span></p>\n</div>\n</div>\n</div>\n</div>\n</div>\n</div>\n</article>\n</div>\n
LOCATION:University of West Georgia Campus Center Ballroom 302 W. Georgia Drive\, Carrollton\, GA 30118
UID:e.1441.16613
SEQUENCE:3
DTSTAMP:20260422T034558Z
URL:https://business.carroll-ga.org/events/details/2026-annual-meeting-16613
END:VEVENT

END:VCALENDAR
